BEGIN:VCALENDAR
VERSION:2.0
PRODID:-//Federación Deportiva Nacional de Tiro - ECPv6.15.20//NONSGML v1.0//EN
CALSCALE:GREGORIAN
METHOD:PUBLISH
X-WR-CALNAME:Federación Deportiva Nacional de Tiro
X-ORIGINAL-URL:https://fedenatir.org
X-WR-CALDESC:Eventos para Federación Deportiva Nacional de Tiro
REFRESH-INTERVAL;VALUE=DURATION:PT1H
X-Robots-Tag:noindex
X-PUBLISHED-TTL:PT1H
BEGIN:VTIMEZONE
TZID:Europe/Madrid
BEGIN:DAYLIGHT
TZOFFSETFROM:+0100
TZOFFSETTO:+0200
TZNAME:CEST
DTSTART:20250330T010000
END:DAYLIGHT
BEGIN:STANDARD
TZOFFSETFROM:+0200
TZOFFSETTO:+0100
TZNAME:CET
DTSTART:20251026T010000
END:STANDARD
BEGIN:DAYLIGHT
TZOFFSETFROM:+0100
TZOFFSETTO:+0200
TZNAME:CEST
DTSTART:20260329T010000
END:DAYLIGHT
BEGIN:STANDARD
TZOFFSETFROM:+0200
TZOFFSETTO:+0100
TZNAME:CET
DTSTART:20261025T010000
END:STANDARD
BEGIN:DAYLIGHT
TZOFFSETFROM:+0100
TZOFFSETTO:+0200
TZNAME:CEST
DTSTART:20270328T010000
END:DAYLIGHT
BEGIN:STANDARD
TZOFFSETFROM:+0200
TZOFFSETTO:+0100
TZNAME:CET
DTSTART:20271031T010000
END:STANDARD
END:VTIMEZONE
BEGIN:VEVENT
DTSTART;TZID=Europe/Madrid:20260424T080000
DTEND;TZID=Europe/Madrid:20260426T160000
DTSTAMP:20260424T013853
CREATED:20260317T163009Z
LAST-MODIFIED:20260422T211148Z
UID:30081-1777017600-1777219200@fedenatir.org
SUMMARY:PRIMER CLASIFICATORIO  REGIÓN 2
DESCRIPTION:
URL:https://fedenatir.org/evento/primer-clasificatorio-region-2/
LOCATION:Poligono de Tiro\, Victor Manuel Castellanos  Mixco\, Guatemala\, 4ta Avenida 10-96 Balcones de San Cristobal\, zona 8 de Mixco\, Guatemala\, Guatemala
END:VEVENT
END:VCALENDAR